BEGIN:VCALENDAR
VERSION:2.0
PRODID:-//pretix//tickets.vgo-o.de//
BEGIN:VTIMEZONE
TZID:Europe/Berlin
BEGIN:STANDARD
DTSTART:20001029T030000
RRULE:FREQ=YEARLY;BYDAY=-1SU;BYMONTH=10
TZNAME:CET
TZOFFSETFROM:+0200
TZOFFSETTO:+0100
END:STANDARD
BEGIN:DAYLIGHT
DTSTART:20000326T020000
RRULE:FREQ=YEARLY;BYDAY=-1SU;BYMONTH=3
TZNAME:CEST
TZOFFSETFROM:+0100
TZOFFSETTO:+0200
END:DAYLIGHT
END:VTIMEZONE
BEGIN:VEVENT
UID:pretix-Touristinfo-3cnwe-6-3052@tickets.vgo-o.de
DTSTART;TZID=Europe/Berlin:20260501T143000
DESCRIPTION:Tickets: https://tickets.vgo-o.de/Touristinfo/3cnwe-6/3052/\nEi
 nlass: 01.05.2026 14:15\nVeranstalter: Tourismusinformation Verbandsgemein
 de Otterbach-Otterberg
DTSTAMP:20260423T051731Z
LOCATION:Otterberg
SUMMARY:Time Travel - Geschichte erleben 2026
END:VEVENT
END:VCALENDAR
